BEGIN:VCALENDAR
VERSION:2.0
PRODID:-//Kino Tuškanac//Filmski programi//HR
BEGIN:VEVENT
UID:b8b84744834c83d15ad683d1eca6100c@kinotuskanac.hr
DTSTAMP:20260420T200110Z
DTSTART:20110516T200000
DTEND:20110516T220000
SUMMARY:Kutija (2006)
LOCATION:Kino Tuškanac
DESCRIPTION:La caja, 2006. R: Juan Falcón
END:VEVENT
END:VCALENDAR