BEGIN:VCALENDAR
VERSION:2.0
PRODID:-//Kino Tuškanac//Filmski programi//HR
BEGIN:VEVENT
UID:23091709ee15d43b4ac2e759a0d1c56f@kinotuskanac.hr
DTSTAMP:20260420T211944Z
DTSTART:20110517T190000
DTEND:20110517T210000
SUMMARY:Kutija (2006)
LOCATION:Kino Tuškanac
DESCRIPTION:La caja, 2006. R: Juan Falcón
END:VEVENT
END:VCALENDAR