BEGIN:VCALENDAR
VERSION:2.0
PRODID:-//Kino Tuškanac//Filmski programi//HR
BEGIN:VEVENT
UID:8015d6a1b790f52a42c7ccd2f4fadec1@kinotuskanac.hr
DTSTAMP:20260420T200400Z
DTSTART:20110518T210000
DTEND:20110518T230000
SUMMARY:Prazne ruke
LOCATION:Kino Tuškanac
DESCRIPTION:Las manos vacías, 2003. R: Marc Recha
END:VEVENT
END:VCALENDAR