BEGIN:VCALENDAR
VERSION:2.0
PRODID:-//Kino Tuškanac//Filmski programi//HR
BEGIN:VEVENT
UID:5e7896897a8da3a7c2bb1ebcbd22b908@kinotuskanac.hr
DTSTAMP:20260420T200053Z
DTSTART:20110519T190000
DTEND:20110519T210000
SUMMARY:Prazne ruke
LOCATION:Kino Tuškanac
DESCRIPTION:Las manos vacías, 2003. R: Marc Recha
END:VEVENT
END:VCALENDAR