BEGIN:VCALENDAR
VERSION:2.0
PRODID:-//Kino Tuškanac//Filmski programi//HR
BEGIN:VEVENT
UID:d035a53b1d071856c3f6a25ae6e42e8e@kinotuskanac.hr
DTSTAMP:20260420T194730Z
DTSTART:20110520T210000
DTEND:20110520T230000
SUMMARY:Samoća
LOCATION:Kino Tuškanac
DESCRIPTION:La soledad, 2007. R: Jaime Rosales
END:VEVENT
END:VCALENDAR