BEGIN:VCALENDAR
VERSION:2.0
PRODID:-//Kino Tuškanac//Filmski programi//HR
BEGIN:VEVENT
UID:aeb423fe8a89df78481153877c156bff@kinotuskanac.hr
DTSTAMP:20260420T231243Z
DTSTART:20110521T170000
DTEND:20110521T190000
SUMMARY:Zapisano na tijelu
LOCATION:Kino Tuškanac
DESCRIPTION:Escrito en el cuerpo, 2008. R: Javier Estella
END:VEVENT
END:VCALENDAR