BEGIN:VCALENDAR
VERSION:2.0
PRODID:-//Kino Tuškanac//Filmski programi//HR
BEGIN:VEVENT
UID:2e1a05305b2a7cd0e6bfc0d57b954ada@kinotuskanac.hr
DTSTAMP:20260420T204940Z
DTSTART:20110521T183000
DTEND:20110521T203000
SUMMARY:Samoća
LOCATION:Kino Tuškanac
DESCRIPTION:La soledad, 2007. R: Jaime Rosales
END:VEVENT
END:VCALENDAR