BEGIN:VCALENDAR
VERSION:2.0
PRODID:-//Kino Tuškanac//Filmski programi//HR
BEGIN:VEVENT
UID:2fe670d6c700ebed999305961878779e@kinotuskanac.hr
DTSTAMP:20260420T230707Z
DTSTART:20110522T190000
DTEND:20110522T210000
SUMMARY:Zapisano na tijelu
LOCATION:Kino Tuškanac
DESCRIPTION:Escrito en el cuerpo, 2008. R: Javier Estella
END:VEVENT
END:VCALENDAR