BEGIN:VCALENDAR
VERSION:2.0
PRODID:-//Kino Tuškanac//Filmski programi//HR
BEGIN:VEVENT
UID:b93d652928b208e97536baee67af5976@kinotuskanac.hr
DTSTAMP:20260421T012412Z
DTSTART:20110522T210000
DTEND:20110522T230000
SUMMARY:Bijele laži
LOCATION:Kino Tuškanac
DESCRIPTION:Mentiras piadosas, 2008. R: Diego Sabanés
END:VEVENT
END:VCALENDAR