BEGIN:VCALENDAR
VERSION:2.0
PRODID:-//Kino Tuškanac//Filmski programi//HR
BEGIN:VEVENT
UID:5e97c62581441c1efb98e0cb49464a92@kinotuskanac.hr
DTSTAMP:20260421T012509Z
DTSTART:20110524T190000
DTEND:20110524T210000
SUMMARY:Bijele laži
LOCATION:Kino Tuškanac
DESCRIPTION:Mentiras piadosas, 2008. R: Diego Sabanés
END:VEVENT
END:VCALENDAR