BEGIN:VCALENDAR
VERSION:2.0
PRODID:-//Kino Tuškanac//Filmski programi//HR
BEGIN:VEVENT
UID:01f4436f77063ed66bb63500c73be6ee@kinotuskanac.hr
DTSTAMP:20260421T051213Z
DTSTART:20110525T210000
DTEND:20110525T230000
SUMMARY:Obitelj Forasteros
LOCATION:Kino Tuškanac
DESCRIPTION:Forasteros, 2008. R: Ventura Pons
END:VEVENT
END:VCALENDAR