BEGIN:VCALENDAR
VERSION:2.0
PRODID:-//Kino Tuškanac//Filmski programi//HR
BEGIN:VEVENT
UID:0cfe4e367b4f555530f61b0b1c4f4114@kinotuskanac.hr
DTSTAMP:20260420T220009Z
DTSTART:20110530T190000
DTEND:20110530T210000
SUMMARY:Viteška čast
LOCATION:Kino Tuškanac
DESCRIPTION:Honor de cavallería, 2006. R: Albert Serra
END:VEVENT
END:VCALENDAR