BEGIN:VCALENDAR
VERSION:2.0
PRODID:-//Kino Tuškanac//Filmski programi//HR
BEGIN:VEVENT
UID:9e4169581f19adbb2f9c3a4c8fd51497@kinotuskanac.hr
DTSTAMP:20260423T112410Z
DTSTART:20110606T200000
DTEND:20110606T220000
SUMMARY:Naše ljubavi
LOCATION:Kino Tuškanac
DESCRIPTION:À nos amours, 1983 R: Maurice Pialat
END:VEVENT
END:VCALENDAR