BEGIN:VCALENDAR
VERSION:2.0
PRODID:-//Kino Tuškanac//Filmski programi//HR
BEGIN:VEVENT
UID:fca87c2356cf2cd171910cec1125284d@kinotuskanac.hr
DTSTAMP:20260423T112406Z
DTSTART:20110607T190000
DTEND:20110607T210000
SUMMARY:Naše ljubavi
LOCATION:Kino Tuškanac
DESCRIPTION:À nos amours, 1983 R: Maurice Pialat
END:VEVENT
END:VCALENDAR