BEGIN:VCALENDAR
VERSION:2.0
PRODID:-//Kino Tuškanac//Filmski programi//HR
BEGIN:VEVENT
UID:7b772cbb6368da7f3beec3cdf5a4d81f@kinotuskanac.hr
DTSTAMP:20260421T164443Z
DTSTART:20110620T190000
DTEND:20110620T210000
SUMMARY:Slatki život
LOCATION:Kino Tuškanac
DESCRIPTION:La dolce vita, Italija, Francuska, 1960 R: Federico Fellini
END:VEVENT
END:VCALENDAR