BEGIN:VCALENDAR
VERSION:2.0
PRODID:-//Kino Tuškanac//Filmski programi//HR
BEGIN:VEVENT
UID:17bff48c7b068d989a70f76dbd52b5cc@kinotuskanac.hr
DTSTAMP:20260420T115011Z
DTSTART:20110627T190000
DTEND:20110627T210000
SUMMARY:Cabirijine noći
LOCATION:Kino Tuškanac
DESCRIPTION:Le notti di Cabiria, Italija, Francuska, 1957 R: Federico Fellini
END:VEVENT
END:VCALENDAR