BEGIN:VCALENDAR
VERSION:2.0
PRODID:-//Kino Tuškanac//Filmski programi//HR
BEGIN:VEVENT
UID:bb736b4f4cb68e1c788c04423e477b12@kinotuskanac.hr
DTSTAMP:20260420T115022Z
DTSTART:20110628T210000
DTEND:20110628T230000
SUMMARY:Cabirijine noći
LOCATION:Kino Tuškanac
DESCRIPTION:Le notti di Cabiria, Italija, Francuska, 1957 R: Federico Fellini
END:VEVENT
END:VCALENDAR