BEGIN:VCALENDAR
VERSION:2.0
PRODID:-//Kino Tuškanac//Filmski programi//HR
BEGIN:VEVENT
UID:75cbfc7363e916e6f3c4316b43bb0ce0@kinotuskanac.hr
DTSTAMP:20260419T141935Z
DTSTART:20110528T190000
DTEND:20110528T210000
SUMMARY:Glembajevi
LOCATION:Kino Tuškanac
DESCRIPTION:Hrvatska, 1988 R: Antun Vrdoljak
END:VEVENT
END:VCALENDAR