BEGIN:VCALENDAR
VERSION:2.0
PRODID:-//Kino Tuškanac//Filmski programi//HR
BEGIN:VEVENT
UID:f2bf5c0a12880c0b1721b2ef1752d890@kinotuskanac.hr
DTSTAMP:20260423T042508Z
DTSTART:20030610T170000
DTEND:20030610T190000
SUMMARY:Službeni položaj
LOCATION:Kino Tuškanac
DESCRIPTION:Jugoslavija: Srbija, 1964 R: Fadil Hadžić
END:VEVENT
END:VCALENDAR