BEGIN:VCALENDAR
VERSION:2.0
PRODID:-//Kino Tuškanac//Filmski programi//HR
BEGIN:VEVENT
UID:759f9164699ade8be7cbbcb02118d1eb@kinotuskanac.hr
DTSTAMP:20260421T164447Z
DTSTART:20110614T190000
DTEND:20110614T210000
SUMMARY:Slatki život
LOCATION:Kino Tuškanac
DESCRIPTION:La dolce vita, Italija, Francuska, 1960 R: Federico Fellini
END:VEVENT
END:VCALENDAR