BEGIN:VCALENDAR
VERSION:2.0
PRODID:-//Kino Tuškanac//Filmski programi//HR
BEGIN:VEVENT
UID:e4211a4668c78e425622e38ffea322c6@kinotuskanac.hr
DTSTAMP:20260422T154025Z
DTSTART:20111005T190000
DTEND:20111005T210000
SUMMARY:Nasilni policajac
LOCATION:Kino Tuškanac
DESCRIPTION:Sono otoko, kyôbô ni tsuki, 1989. R: Takeshi Kitano
END:VEVENT
END:VCALENDAR