BEGIN:VCALENDAR
VERSION:2.0
PRODID:-//Kino Tuškanac//Filmski programi//HR
BEGIN:VEVENT
UID:682880f9320f7153ccab27c7a2360965@kinotuskanac.hr
DTSTAMP:20260422T154537Z
DTSTART:20111006T210000
DTEND:20111006T230000
SUMMARY:Nasilni policajac
LOCATION:Kino Tuškanac
DESCRIPTION:Sono otoko, kyôbô ni tsuki, 1989. R: Takeshi Kitano
END:VEVENT
END:VCALENDAR