BEGIN:VCALENDAR
VERSION:2.0
PRODID:-//Kino Tuškanac//Filmski programi//HR
BEGIN:VEVENT
UID:d6096a66864957198ea53443369f6637@kinotuskanac.hr
DTSTAMP:20260421T142150Z
DTSTART:20111007T190000
DTEND:20111007T210000
SUMMARY:Radite li one stvari?
LOCATION:Kino Tuškanac
DESCRIPTION:Minnâ-yatteruka!, 1994.) R: Takeshi Kitano
END:VEVENT
END:VCALENDAR