BEGIN:VCALENDAR
VERSION:2.0
PRODID:-//Kino Tuškanac//Filmski programi//HR
BEGIN:VEVENT
UID:32a5c77d8d771941bb2514bbac4d36e1@kinotuskanac.hr
DTSTAMP:20260421T141534Z
DTSTART:20111010T210000
DTEND:20111010T230000
SUMMARY:Radite li one stvari?
LOCATION:Kino Tuškanac
DESCRIPTION:Minnâ-yatteruka!, 1994.) R: Takeshi Kitano
END:VEVENT
END:VCALENDAR