BEGIN:VCALENDAR
VERSION:2.0
PRODID:-//Kino Tuškanac//Filmski programi//HR
BEGIN:VEVENT
UID:7a2f2068079d87d9badb3365c275b215@kinotuskanac.hr
DTSTAMP:20260421T142140Z
DTSTART:20111011T210000
DTEND:20111011T230000
SUMMARY:Vrelište
LOCATION:Kino Tuškanac
DESCRIPTION:3 tai 4 ekkusu jugatsu, 1990. R: Takeshi Kitano
END:VEVENT
END:VCALENDAR