BEGIN:VCALENDAR
VERSION:2.0
PRODID:-//Kino Tuškanac//Filmski programi//HR
BEGIN:VEVENT
UID:d2f618e70c3071b530b4bd691b0d2899@kinotuskanac.hr
DTSTAMP:20260421T141943Z
DTSTART:20111012T190000
DTEND:20111012T210000
SUMMARY:Vrelište
LOCATION:Kino Tuškanac
DESCRIPTION:3 tai 4 ekkusu jugatsu, 1990. R: Takeshi Kitano
END:VEVENT
END:VCALENDAR