BEGIN:VCALENDAR
VERSION:2.0
PRODID:-//Kino Tuškanac//Filmski programi//HR
BEGIN:VEVENT
UID:b5d759579833372d93834cf25831eabe@kinotuskanac.hr
DTSTAMP:20260420T154613Z
DTSTART:20111102T200000
DTEND:20111102T220000
SUMMARY:Fado
LOCATION:Kino Tuškanac
DESCRIPTION:Fados, Portugal, 2007 R: Carlos Saura
END:VEVENT
END:VCALENDAR