BEGIN:VCALENDAR
VERSION:2.0
PRODID:-//Kino Tuškanac//Filmski programi//HR
BEGIN:VEVENT
UID:cb1552de1c19a3b7dd19dc57c2f9988b@kinotuskanac.hr
DTSTAMP:20260420T154613Z
DTSTART:20111103T190000
DTEND:20111103T210000
SUMMARY:Fado
LOCATION:Kino Tuškanac
DESCRIPTION:Fados, Portugal, 2007 R: Carlos Saura
END:VEVENT
END:VCALENDAR