BEGIN:VCALENDAR
VERSION:2.0
PRODID:-//Kino Tuškanac//Filmski programi//HR
BEGIN:VEVENT
UID:78d5ef5e7c003b6c16def1eccf306c28@kinotuskanac.hr
DTSTAMP:20260422T010357Z
DTSTART:20111104T210000
DTEND:20111104T230000
SUMMARY:Sasvim slučajno
LOCATION:Kino Tuškanac
DESCRIPTION:À deriva, Brazil, 2009 R: Heitor Dhalia
END:VEVENT
END:VCALENDAR