BEGIN:VCALENDAR
VERSION:2.0
PRODID:-//Kino Tuškanac//Filmski programi//HR
BEGIN:VEVENT
UID:ce82edb102bdc09bb96a6ed7b9d9c6b3@kinotuskanac.hr
DTSTAMP:20260422T030124Z
DTSTART:20111107T190000
DTEND:20111107T210000
SUMMARY:Vrijeme mira
LOCATION:Kino Tuškanac
DESCRIPTION:Tempos de Paz, Brazil, 2009 R: Daniel Filho
END:VEVENT
END:VCALENDAR