BEGIN:VCALENDAR
VERSION:2.0
PRODID:-//Kino Tuškanac//Filmski programi//HR
BEGIN:VEVENT
UID:a9cd423fb43af052c0d899d58bf7f8d5@kinotuskanac.hr
DTSTAMP:20260422T010626Z
DTSTART:20111107T210000
DTEND:20111107T230000
SUMMARY:Metoda
LOCATION:Kino Tuškanac
DESCRIPTION:El método, 2005 R: Marcelo Piñeyro
END:VEVENT
END:VCALENDAR