BEGIN:VCALENDAR
VERSION:2.0
PRODID:-//Kino Tuškanac//Filmski programi//HR
BEGIN:VEVENT
UID:c0a417f29faf1f8c3cb075d8c29d2352@kinotuskanac.hr
DTSTAMP:20260423T220538Z
DTSTART:20111109T190000
DTEND:20111109T210000
SUMMARY:Mlijeko tuge
LOCATION:Kino Tuškanac
DESCRIPTION:La teta asustada, 2009 R: Claudia Llosa
END:VEVENT
END:VCALENDAR