BEGIN:VCALENDAR
VERSION:2.0
PRODID:-//Kino Tuškanac//Filmski programi//HR
BEGIN:VEVENT
UID:20925eb72bbdf726b536093861fb2379@kinotuskanac.hr
DTSTAMP:20260422T030050Z
DTSTART:20111110T210000
DTEND:20111110T230000
SUMMARY:Lokas
LOCATION:Kino Tuškanac
DESCRIPTION:2008 R: Gonzalo Justiniano
END:VEVENT
END:VCALENDAR