BEGIN:VCALENDAR
VERSION:2.0
PRODID:-//Kino Tuškanac//Filmski programi//HR
BEGIN:VEVENT
UID:d6753a02140bcba9f99e342b377ed663@kinotuskanac.hr
DTSTAMP:20260422T030116Z
DTSTART:20111111T190000
DTEND:20111111T210000
SUMMARY:Lokas
LOCATION:Kino Tuškanac
DESCRIPTION:2008 R: Gonzalo Justiniano
END:VEVENT
END:VCALENDAR