BEGIN:VCALENDAR
VERSION:2.0
PRODID:-//Kino Tuškanac//Filmski programi//HR
BEGIN:VEVENT
UID:9e15c6aefa1e84a19ad8f79b6fbbd62e@kinotuskanac.hr
DTSTAMP:20260420T130631Z
DTSTART:20111112T210000
DTEND:20111112T230000
SUMMARY:Carancho
LOCATION:Kino Tuškanac
DESCRIPTION:Argentina, 2010 R: Pablo Trapero
END:VEVENT
END:VCALENDAR