BEGIN:VCALENDAR
VERSION:2.0
PRODID:-//Kino Tuškanac//Filmski programi//HR
BEGIN:VEVENT
UID:d0c7a6b6315dd6a4ae98d4f8de1478bb@kinotuskanac.hr
DTSTAMP:20260424T234217Z
DTSTART:20031007T170000
DTEND:20031007T190000
SUMMARY:San o ruži
LOCATION:Kino Tuškanac
DESCRIPTION:1986 R: Zoran Tadić
END:VEVENT
END:VCALENDAR