BEGIN:VCALENDAR
VERSION:2.0
PRODID:-//Kino Tuškanac//Filmski programi//HR
BEGIN:VEVENT
UID:d5dff01d9fc187c02c44307b4cf9f092@kinotuskanac.hr
DTSTAMP:20260420T130608Z
DTSTART:20111114T170000
DTEND:20111114T190000
SUMMARY:Carancho
LOCATION:Kino Tuškanac
DESCRIPTION:Argentina, 2010 R: Pablo Trapero
END:VEVENT
END:VCALENDAR