BEGIN:VCALENDAR
VERSION:2.0
PRODID:-//Kino Tuškanac//Filmski programi//HR
BEGIN:VEVENT
UID:d2e414697b71cec91f331c251571acaa@kinotuskanac.hr
DTSTAMP:20260423T144042Z
DTSTART:20111205T210000
DTEND:20111205T230000
SUMMARY:Tko se boji Virginije Woolf?
LOCATION:Kino Tuškanac
DESCRIPTION:Who's Afraid of Virginia Woolf?, SAD, 1966 R: Mike Nichols
END:VEVENT
END:VCALENDAR