BEGIN:VCALENDAR
VERSION:2.0
PRODID:-//Kino Tuškanac//Filmski programi//HR
BEGIN:VEVENT
UID:cefb14ba90cf31ae4a0d3841650c53ce@kinotuskanac.hr
DTSTAMP:20260423T143946Z
DTSTART:20111206T170000
DTEND:20111206T190000
SUMMARY:Tko se boji Virginije Woolf?
LOCATION:Kino Tuškanac
DESCRIPTION:Who's Afraid of Virginia Woolf?, SAD, 1966 R: Mike Nichols
END:VEVENT
END:VCALENDAR