BEGIN:VCALENDAR
VERSION:2.0
PRODID:-//Kino Tuškanac//Filmski programi//HR
BEGIN:VEVENT
UID:f369aefaad279b566c996f227200da4a@kinotuskanac.hr
DTSTAMP:20260421T234443Z
DTSTART:20111206T191500
DTEND:20111206T211500
SUMMARY:BUtterfield 8
LOCATION:Kino Tuškanac
DESCRIPTION:1960. R: Daniel Mann
END:VEVENT
END:VCALENDAR