BEGIN:VCALENDAR
VERSION:2.0
PRODID:-//Kino Tuškanac//Filmski programi//HR
BEGIN:VEVENT
UID:57cf38b8bc4a1c4155ba43b3145b7665@kinotuskanac.hr
DTSTAMP:20260423T085943Z
DTSTART:20111207T190000
DTEND:20111207T210000
SUMMARY:Tajna ceremonija
LOCATION:Kino Tuškanac
DESCRIPTION:Secret Ceremony, 1968 R: Joseph Losey
END:VEVENT
END:VCALENDAR