BEGIN:VCALENDAR
VERSION:2.0
PRODID:-//Kino Tuškanac//Filmski programi//HR
BEGIN:VEVENT
UID:b6931f3bddef1affd1d5c9dba0452d96@kinotuskanac.hr
DTSTAMP:20260420T172145Z
DTSTART:20111207T210000
DTEND:20111207T230000
SUMMARY:Odsjaji u zlatnom oku
LOCATION:Kino Tuškanac
DESCRIPTION:Reflections in a Golden Eye, SAD, 1967 R: John Huston
END:VEVENT
END:VCALENDAR