BEGIN:VCALENDAR
VERSION:2.0
PRODID:-//Kino Tuškanac//Filmski programi//HR
BEGIN:VEVENT
UID:5c91f851faa4a9c206e6a386db3c10b3@kinotuskanac.hr
DTSTAMP:20260420T172145Z
DTSTART:20111208T190000
DTEND:20111208T210000
SUMMARY:Odsjaji u zlatnom oku
LOCATION:Kino Tuškanac
DESCRIPTION:Reflections in a Golden Eye, SAD, 1967 R: John Huston
END:VEVENT
END:VCALENDAR