BEGIN:VCALENDAR
VERSION:2.0
PRODID:-//Kino Tuškanac//Filmski programi//HR
BEGIN:VEVENT
UID:6afe572178dbd724ef2765ca2a910f0d@kinotuskanac.hr
DTSTAMP:20260421T093529Z
DTSTART:20111208T210000
DTEND:20111208T230000
SUMMARY:Tajna ceremonija
LOCATION:Kino Tuškanac
DESCRIPTION:Secret Ceremony, 1968 R: Joseph Losey
END:VEVENT
END:VCALENDAR