BEGIN:VCALENDAR
VERSION:2.0
PRODID:-//Kino Tuškanac//Filmski programi//HR
BEGIN:VEVENT
UID:b1b040f84be3d9547a4719295b4fc241@kinotuskanac.hr
DTSTAMP:20260422T010938Z
DTSTART:20111220T170000
DTEND:20111220T190000
SUMMARY:BUtterfield 8
LOCATION:Kino Tuškanac
DESCRIPTION:1960. R: Daniel Mann
END:VEVENT
END:VCALENDAR