BEGIN:VCALENDAR
VERSION:2.0
PRODID:-//Kino Tuškanac//Filmski programi//HR
BEGIN:VEVENT
UID:38344176284bb0013e759d0a5cce360c@kinotuskanac.hr
DTSTAMP:20260425T233756Z
DTSTART:20111210T190000
DTEND:20111210T210000
SUMMARY:Skrletno slovo
LOCATION:Kino Tuškanac
DESCRIPTION:Der scharlachrote Buchstabe, 1973 R: Wim Wenders
END:VEVENT
END:VCALENDAR