BEGIN:VCALENDAR
VERSION:2.0
PRODID:-//Kino Tuškanac//Filmski programi//HR
BEGIN:VEVENT
UID:3133c638b01bd503843817e5b62a1392@kinotuskanac.hr
DTSTAMP:20260425T233734Z
DTSTART:20111212T210000
DTEND:20111212T230000
SUMMARY:Skrletno slovo
LOCATION:Kino Tuškanac
DESCRIPTION:Der scharlachrote Buchstabe, 1973 R: Wim Wenders
END:VEVENT
END:VCALENDAR