BEGIN:VCALENDAR
VERSION:2.0
PRODID:-//Kino Tuškanac//Filmski programi//HR
BEGIN:VEVENT
UID:3a80371782811cf4ebdc98ccfbd9a6f8@kinotuskanac.hr
DTSTAMP:20260425T153502Z
DTSTART:20111213T190000
DTEND:20111213T210000
SUMMARY:Soba 666
LOCATION:Kino Tuškanac
DESCRIPTION:Chambre 666, 1982 R: Wim Wenders
END:VEVENT
END:VCALENDAR