BEGIN:VCALENDAR
VERSION:2.0
PRODID:-//Kino Tuškanac//Filmski programi//HR
BEGIN:VEVENT
UID:80930ae6e6edce4268a570266efd6053@kinotuskanac.hr
DTSTAMP:20260420T200410Z
DTSTART:20111214T190000
DTEND:20111214T210000
SUMMARY:Američki prijatelj
LOCATION:Kino Tuškanac
DESCRIPTION:Der amerikanische Freund, 1977 R: Wim Wenders
END:VEVENT
END:VCALENDAR