BEGIN:VCALENDAR
VERSION:2.0
PRODID:-//Kino Tuškanac//Filmski programi//HR
BEGIN:VEVENT
UID:ca074bafd493f4e8319614a232ef6585@kinotuskanac.hr
DTSTAMP:20260420T200227Z
DTSTART:20111215T210000
DTEND:20111215T230000
SUMMARY:Američki prijatelj
LOCATION:Kino Tuškanac
DESCRIPTION:Der amerikanische Freund, 1977 R: Wim Wenders
END:VEVENT
END:VCALENDAR